BEGIN:VCALENDAR
VERSION:2.0
PRODID:-// - ECPv6.15.20//NONSGML v1.0//EN
CALSCALE:GREGORIAN
METHOD:PUBLISH
X-ORIGINAL-URL:https://hyeleechang.com
X-WR-CALDESC:Veranstaltungen für 
REFRESH-INTERVAL;VALUE=DURATION:PT1H
X-Robots-Tag:noindex
X-PUBLISHED-TTL:PT1H
BEGIN:VTIMEZONE
TZID:Europe/Berlin
BEGIN:DAYLIGHT
TZOFFSETFROM:+0100
TZOFFSETTO:+0200
TZNAME:CEST
DTSTART:20230326T010000
END:DAYLIGHT
BEGIN:STANDARD
TZOFFSETFROM:+0200
TZOFFSETTO:+0100
TZNAME:CET
DTSTART:20231029T010000
END:STANDARD
BEGIN:DAYLIGHT
TZOFFSETFROM:+0100
TZOFFSETTO:+0200
TZNAME:CEST
DTSTART:20240331T010000
END:DAYLIGHT
BEGIN:STANDARD
TZOFFSETFROM:+0200
TZOFFSETTO:+0100
TZNAME:CET
DTSTART:20241027T010000
END:STANDARD
BEGIN:DAYLIGHT
TZOFFSETFROM:+0100
TZOFFSETTO:+0200
TZNAME:CEST
DTSTART:20250330T010000
END:DAYLIGHT
BEGIN:STANDARD
TZOFFSETFROM:+0200
TZOFFSETTO:+0100
TZNAME:CET
DTSTART:20251026T010000
END:STANDARD
END:VTIMEZONE
BEGIN:VEVENT
DTSTART;TZID=Europe/Berlin:20240126T190000
DTEND;TZID=Europe/Berlin:20240126T210000
DTSTAMP:20260424T071820
CREATED:20240208T104721Z
LAST-MODIFIED:20240208T104721Z
UID:1312-1706295600-1706302800@hyeleechang.com
SUMMARY:Benefizkonzert von Live-Music-Now
DESCRIPTION:Bei den Stadtwerken Kiel treten 16 Musizierende aus acht Nationen vor vollem Haus auf und spielten Musik von Klassik bis Pop. Sie alle sind aktive oder ehemalige Studierende der Musikhochschule Lübeck und Stipendiaten des Vereins “Live Music Now Lübeck e.V.”. \n  \nhttps://www.stadtwerke-kiel.de/privatkunden/nachhaltigkeit-soziales/live-music-now \n  \n \nteilen teilen teilen E-Mail 
URL:https://hyeleechang.com/event/benefizkonzert-von-live-music-now
CATEGORIES:Konzert
END:VEVENT
END:VCALENDAR