BEGIN:VCALENDAR
VERSION:2.0
PRODID:-// - ECPv6.15.20//NONSGML v1.0//EN
CALSCALE:GREGORIAN
METHOD:PUBLISH
X-ORIGINAL-URL:https://hyeleechang.com
X-WR-CALDESC:Veranstaltungen für 
REFRESH-INTERVAL;VALUE=DURATION:PT1H
X-Robots-Tag:noindex
X-PUBLISHED-TTL:PT1H
BEGIN:VTIMEZONE
TZID:Europe/Berlin
BEGIN:DAYLIGHT
TZOFFSETFROM:+0100
TZOFFSETTO:+0200
TZNAME:CEST
DTSTART:20230326T010000
END:DAYLIGHT
BEGIN:STANDARD
TZOFFSETFROM:+0200
TZOFFSETTO:+0100
TZNAME:CET
DTSTART:20231029T010000
END:STANDARD
BEGIN:DAYLIGHT
TZOFFSETFROM:+0100
TZOFFSETTO:+0200
TZNAME:CEST
DTSTART:20240331T010000
END:DAYLIGHT
BEGIN:STANDARD
TZOFFSETFROM:+0200
TZOFFSETTO:+0100
TZNAME:CET
DTSTART:20241027T010000
END:STANDARD
BEGIN:DAYLIGHT
TZOFFSETFROM:+0100
TZOFFSETTO:+0200
TZNAME:CEST
DTSTART:20250330T010000
END:DAYLIGHT
BEGIN:STANDARD
TZOFFSETFROM:+0200
TZOFFSETTO:+0100
TZNAME:CET
DTSTART:20251026T010000
END:STANDARD
END:VTIMEZONE
BEGIN:VEVENT
DTSTART;TZID=Europe/Berlin:20241102T180000
DTEND;TZID=Europe/Berlin:20241102T190000
DTSTAMP:20260421T185155
CREATED:20241010T140110Z
LAST-MODIFIED:20241010T140543Z
UID:1333-1730570400-1730574000@hyeleechang.com
SUMMARY:Lieder Mit & Ohne Worte von Mendelssohn bis Korngold
DESCRIPTION:Lieder Mit & Ohne Worte von Mendelssohn bis Korngold \nvom Due Klangkomplizinnen. Mit \nSopran: Lisa Ziehm \nKlavier: Hyelee Clara Chang \n  \nEintritt frei – Wir freuen uns über Ihre Spende zur Unterstützung \n  \n \nteilen teilen teilen E-Mail 
URL:https://hyeleechang.com/event/lieder-mit-ohne-worte-von-mendelssohn-bis-korngold
LOCATION:Haus Eden\, Königstraße 25\, Lübeck\, 23552\, Deutschland
CATEGORIES:Konzert
ATTACH;FMTTYPE=image/png:https://hyeleechang.com/wp-content/uploads/2024/10/Schwarz-Weiss-Bild-Theater-Plakat.png
END:VEVENT
END:VCALENDAR