BEGIN:VCALENDAR
VERSION:2.0
PRODID:-// - ECPv6.15.20//NONSGML v1.0//EN
CALSCALE:GREGORIAN
METHOD:PUBLISH
X-ORIGINAL-URL:https://hyeleechang.com
X-WR-CALDESC:Veranstaltungen für 
REFRESH-INTERVAL;VALUE=DURATION:PT1H
X-Robots-Tag:noindex
X-PUBLISHED-TTL:PT1H
BEGIN:VTIMEZONE
TZID:Europe/Berlin
BEGIN:DAYLIGHT
TZOFFSETFROM:+0100
TZOFFSETTO:+0200
TZNAME:CEST
DTSTART:20230326T010000
END:DAYLIGHT
BEGIN:STANDARD
TZOFFSETFROM:+0200
TZOFFSETTO:+0100
TZNAME:CET
DTSTART:20231029T010000
END:STANDARD
BEGIN:DAYLIGHT
TZOFFSETFROM:+0100
TZOFFSETTO:+0200
TZNAME:CEST
DTSTART:20240331T010000
END:DAYLIGHT
BEGIN:STANDARD
TZOFFSETFROM:+0200
TZOFFSETTO:+0100
TZNAME:CET
DTSTART:20241027T010000
END:STANDARD
BEGIN:DAYLIGHT
TZOFFSETFROM:+0100
TZOFFSETTO:+0200
TZNAME:CEST
DTSTART:20250330T010000
END:DAYLIGHT
BEGIN:STANDARD
TZOFFSETFROM:+0200
TZOFFSETTO:+0100
TZNAME:CET
DTSTART:20251026T010000
END:STANDARD
END:VTIMEZONE
BEGIN:VEVENT
DTSTART;TZID=Europe/Berlin:20240417T170000
DTEND;TZID=Europe/Berlin:20240417T183000
DTSTAMP:20260424T023135
CREATED:20240208T103353Z
LAST-MODIFIED:20240208T103353Z
UID:1310-1713373200-1713378600@hyeleechang.com
SUMMARY:Frühlingskonzert mit Musik von Chopin\, Ravel\, Betthoven und Liszt.
DESCRIPTION:VHS: Klavierkonzert mit Hyelee Chang – Sinneszauber \nteilen teilen teilen E-Mail 
URL:https://hyeleechang.com/event/fruehlingskonzert-mit-musik-von-chopin-ravel-betthoven-und-liszt
LOCATION:Kurgartensaal Wyk\, Sandwall 36\, Wyk auf Föhr\, 25938
CATEGORIES:Konzert
END:VEVENT
END:VCALENDAR