BEGIN:VCALENDAR
VERSION:2.0
PRODID:-// - ECPv6.15.20//NONSGML v1.0//EN
CALSCALE:GREGORIAN
METHOD:PUBLISH
X-ORIGINAL-URL:https://hyeleechang.com
X-WR-CALDESC:Veranstaltungen für 
REFRESH-INTERVAL;VALUE=DURATION:PT1H
X-Robots-Tag:noindex
X-PUBLISHED-TTL:PT1H
BEGIN:VTIMEZONE
TZID:Europe/Berlin
BEGIN:DAYLIGHT
TZOFFSETFROM:+0100
TZOFFSETTO:+0200
TZNAME:CEST
DTSTART:20230326T010000
END:DAYLIGHT
BEGIN:STANDARD
TZOFFSETFROM:+0200
TZOFFSETTO:+0100
TZNAME:CET
DTSTART:20231029T010000
END:STANDARD
BEGIN:DAYLIGHT
TZOFFSETFROM:+0100
TZOFFSETTO:+0200
TZNAME:CEST
DTSTART:20240331T010000
END:DAYLIGHT
BEGIN:STANDARD
TZOFFSETFROM:+0200
TZOFFSETTO:+0100
TZNAME:CET
DTSTART:20241027T010000
END:STANDARD
BEGIN:DAYLIGHT
TZOFFSETFROM:+0100
TZOFFSETTO:+0200
TZNAME:CEST
DTSTART:20250330T010000
END:DAYLIGHT
BEGIN:STANDARD
TZOFFSETFROM:+0200
TZOFFSETTO:+0100
TZNAME:CET
DTSTART:20251026T010000
END:STANDARD
END:VTIMEZONE
BEGIN:VEVENT
DTSTART;TZID=Europe/Berlin:20240927T170000
DTEND;TZID=Europe/Berlin:20240927T170000
DTSTAMP:20260424T064431
CREATED:20241010T202627Z
LAST-MODIFIED:20241010T202627Z
UID:1339-1727456400-1727456400@hyeleechang.com
SUMMARY:Wort und Musik
DESCRIPTION:Romantische Klavierstücke von Felix Mendelssohn Bartholdy\, Frederic Chopin und Franz Liszt. \nEine Veranstaltung in der St.-Nicolai-Kirche Sarstedt. Hörgenuss\, gepaart mit geistlichem Impuls zum Abschluss eines Monats. \n  \nteilen teilen teilen E-Mail 
URL:https://hyeleechang.com/event/wort-und-musik
LOCATION:St. Nicolai Kirche Sarstedt\, Kirchpl. 5\, Sarstedt\, 31157\, Deutschland
CATEGORIES:Konzert
END:VEVENT
END:VCALENDAR