BEGIN:VCALENDAR
VERSION:2.0
PRODID:-// - ECPv6.15.20//NONSGML v1.0//EN
CALSCALE:GREGORIAN
METHOD:PUBLISH
X-ORIGINAL-URL:https://hyeleechang.com
X-WR-CALDESC:Veranstaltungen für 
REFRESH-INTERVAL;VALUE=DURATION:PT1H
X-Robots-Tag:noindex
X-PUBLISHED-TTL:PT1H
BEGIN:VTIMEZONE
TZID:Europe/Berlin
BEGIN:DAYLIGHT
TZOFFSETFROM:+0100
TZOFFSETTO:+0200
TZNAME:CEST
DTSTART:20210328T010000
END:DAYLIGHT
BEGIN:STANDARD
TZOFFSETFROM:+0200
TZOFFSETTO:+0100
TZNAME:CET
DTSTART:20211031T010000
END:STANDARD
BEGIN:DAYLIGHT
TZOFFSETFROM:+0100
TZOFFSETTO:+0200
TZNAME:CEST
DTSTART:20220327T010000
END:DAYLIGHT
BEGIN:STANDARD
TZOFFSETFROM:+0200
TZOFFSETTO:+0100
TZNAME:CET
DTSTART:20221030T010000
END:STANDARD
BEGIN:DAYLIGHT
TZOFFSETFROM:+0100
TZOFFSETTO:+0200
TZNAME:CEST
DTSTART:20230326T010000
END:DAYLIGHT
BEGIN:STANDARD
TZOFFSETFROM:+0200
TZOFFSETTO:+0100
TZNAME:CET
DTSTART:20231029T010000
END:STANDARD
END:VTIMEZONE
BEGIN:VEVENT
DTSTART;TZID=Europe/Berlin:20221127T160000
DTEND;TZID=Europe/Berlin:20221127T170000
DTSTAMP:20260423T002454
CREATED:20221019T161511Z
LAST-MODIFIED:20221126T213724Z
UID:1229-1669564800-1669568400@hyeleechang.com
SUMMARY:Klavierkonzert zum Thema: Klang\, Duft und Bild
DESCRIPTION:Am 27.11.2022 um 16:00 im Mendelssohn-Haus Leipzig: \n  \n„Mozart mit den Ohren naschen…“\nTonarten\, Akkorde\, Melodien erwecken Assoziationen:\nFarben\, Formen\, Duft oder Geschmack.\nDie Pianistin erzählt\, wie sie ihr Spiel mit allen Sinnen erlebt und\ngestaltet:\n„Man kann mit Chopins Impromptu und Prélude tagsüber die Sterne sehen\noder den Regen spüren\, auch wenn es trocken ist. Wenn Sie verschiedene\nSinne beim Hören nutzen\, wird das Musikstück zu Ihrer eigenen Musik und\nbleibt für immer bei Ihnen\, so wie ein Duft\, der einen Ihrer Momente in\nIhre Erinnerung eingraviert hat und diesen lebenslang immer wieder\nhervorholt.”\nDas Konzert ist in Zusammenarbeit mit der Malerin Mayoni\nBehrens und mit dem Parfümeur Dirk Linder entstanden. \n  \nAlle Konzerte sind hier zu finden: \n \n  \nTickets für das Konzert in Leipzig gibt es hier zu erwerben. \nteilen teilen teilen E-Mail 
URL:https://hyeleechang.com/event/klaviermusik-zum-thema-klang-duft-und-bild
LOCATION:Mendelssohn-Haus\, Goldschmidtstraße 12\, Leipzig\, 04103
CATEGORIES:Konzert
ATTACH;FMTTYPE=image/jpeg:https://hyeleechang.com/wp-content/uploads/2022/10/Mendelssohnhaus_web.jpeg
END:VEVENT
END:VCALENDAR