BEGIN:VCALENDAR
VERSION:2.0
PRODID:-// - ECPv6.15.20//NONSGML v1.0//EN
CALSCALE:GREGORIAN
METHOD:PUBLISH
X-ORIGINAL-URL:https://hyeleechang.com
X-WR-CALDESC:Veranstaltungen für 
REFRESH-INTERVAL;VALUE=DURATION:PT1H
X-Robots-Tag:noindex
X-PUBLISHED-TTL:PT1H
BEGIN:VTIMEZONE
TZID:Europe/Berlin
BEGIN:DAYLIGHT
TZOFFSETFROM:+0100
TZOFFSETTO:+0200
TZNAME:CEST
DTSTART:20210328T010000
END:DAYLIGHT
BEGIN:STANDARD
TZOFFSETFROM:+0200
TZOFFSETTO:+0100
TZNAME:CET
DTSTART:20211031T010000
END:STANDARD
BEGIN:DAYLIGHT
TZOFFSETFROM:+0100
TZOFFSETTO:+0200
TZNAME:CEST
DTSTART:20220327T010000
END:DAYLIGHT
BEGIN:STANDARD
TZOFFSETFROM:+0200
TZOFFSETTO:+0100
TZNAME:CET
DTSTART:20221030T010000
END:STANDARD
BEGIN:DAYLIGHT
TZOFFSETFROM:+0100
TZOFFSETTO:+0200
TZNAME:CEST
DTSTART:20230326T010000
END:DAYLIGHT
BEGIN:STANDARD
TZOFFSETFROM:+0200
TZOFFSETTO:+0100
TZNAME:CET
DTSTART:20231029T010000
END:STANDARD
END:VTIMEZONE
BEGIN:VEVENT
DTSTART;TZID=Europe/Berlin:20221203T180000
DTEND;TZID=Europe/Berlin:20221203T200000
DTSTAMP:20260422T223351
CREATED:20221019T163112Z
LAST-MODIFIED:20221129T222158Z
UID:1240-1670090400-1670097600@hyeleechang.com
SUMMARY:Klavierkonzert zum Thema: Klang\, Duft und Bild
DESCRIPTION:Am 03.12.2022 um 18:00 im Haus Eden Lübeck: \nPianistin Hyelee Clara Chang erzählt\, wie sie während ihrer musikalischen Interpretation verschiedene Düfte und Bilder assoziiert und lädt das Publikum dazu ein\, ihr Repertoire nicht nur hörend zu erleben. \n„Mozart mit den Ohren naschen…“\nTonarten\, Akkorde\, Melodien erwecken Assoziationen:\nFarben\, Formen\, Duft oder Geschmack.\nDie Pianistin erzählt\, wie sie ihr Spiel mit allen Sinnen erlebt und gestaltet:\n„Man kann mit Chopins Impromptu und Prélude tagsüber die Sterne sehen oder den Regen spüren\, auch wenn es trocken ist. Wenn Sie verschiedene Sinne beim Hören nutzen\, wird das Musikstück zu Ihrer eigenen Musik und bleibt für immer bei Ihnen\, so wie ein Duft\, der einen Ihrer Momente in Ihre Erinnerung eingraviert hat und diesen lebenslang immer wieder hervorholt.” \nDas Klavierkonzert ist in Zusammenarbeit mit der Malerin Mayoni Behrens und mit dem Parfümeur Dirk Linder entstanden. \n  \nEine Übersicht über alle Pianokonzerte dieser Konzertreihe sind hier zu finden: \n \nteilen teilen teilen E-Mail 
URL:https://hyeleechang.com/event/klavierkonzert-zum-thema-klang-duft-und-bild
LOCATION:Haus Eden\, Königstraße 25\, Lübeck\, 23552\, Deutschland
CATEGORIES:Konzert
ATTACH;FMTTYPE=image/jpeg:https://hyeleechang.com/wp-content/uploads/2022/10/HausEden_web.jpeg
END:VEVENT
BEGIN:VEVENT
DTSTART;TZID=Europe/Berlin:20221210T180000
DTEND;TZID=Europe/Berlin:20221210T200000
DTSTAMP:20260422T223351
CREATED:20221019T163716Z
LAST-MODIFIED:20221129T222245Z
UID:1245-1670695200-1670702400@hyeleechang.com
SUMMARY:Klavierkonzert zum Thema: Klang und Geschmack
DESCRIPTION:Am 10.12.2022 um 18:00 im Haus Eden Lübeck: \nPianistin Hyelee Clara Chang erzählt\, wie sie während ihrer musikalischen Interpretation verschiedene Geschmäcker assoziiert und lädt das Publikum dazu ein\, ihr Repertoire nicht nur hörend zu erleben. \n„Mozart mit den Ohren naschen…“\nTonarten\, Akkorde\, Melodien erwecken Assoziationen:\nFarben\, Formen\, Duft oder Geschmack.\nDie Pianistin erzählt\, wie sie ihr Spiel mit allen Sinnen erlebt und gestaltet:\n„Man kann mit Chopins Impromptu und Prélude tagsüber die Sterne sehen oder den Regen spüren\, auch wenn es trocken ist. Wenn Sie verschiedene Sinne beim Hören nutzen\, wird das Musikstück zu Ihrer eigenen Musik und bleibt für immer bei Ihnen\, so wie ein Duft\, der einen Ihrer Momente in Ihre Erinnerung eingraviert hat und diesen lebenslang immer wieder hervorholt.” \nDas Klavierkonzert ist in Zusammenarbeit mit der Malerin Mayoni Behrens und mit dem Parfümeur Dirk Linder entstanden. \n  \nEine Übersicht über alle Pianokonzerte dieser Konzertreihe sind hier zu finden: \n \nteilen teilen teilen E-Mail 
URL:https://hyeleechang.com/event/klavierkonzert-zum-thema-klang-und-geschmack
LOCATION:Haus Eden\, Königstraße 25\, Lübeck\, 23552\, Deutschland
CATEGORIES:Konzert
ATTACH;FMTTYPE=image/jpeg:https://hyeleechang.com/wp-content/uploads/2022/10/HausEden_web.jpeg
END:VEVENT
END:VCALENDAR