BEGIN:VCALENDAR
VERSION:2.0
PRODID:-// - ECPv6.15.20//NONSGML v1.0//EN
CALSCALE:GREGORIAN
METHOD:PUBLISH
X-ORIGINAL-URL:https://hyeleechang.com
X-WR-CALDESC:Veranstaltungen für 
REFRESH-INTERVAL;VALUE=DURATION:PT1H
X-Robots-Tag:noindex
X-PUBLISHED-TTL:PT1H
BEGIN:VTIMEZONE
TZID:Europe/Berlin
BEGIN:DAYLIGHT
TZOFFSETFROM:+0100
TZOFFSETTO:+0200
TZNAME:CEST
DTSTART:20240331T010000
END:DAYLIGHT
BEGIN:STANDARD
TZOFFSETFROM:+0200
TZOFFSETTO:+0100
TZNAME:CET
DTSTART:20241027T010000
END:STANDARD
BEGIN:DAYLIGHT
TZOFFSETFROM:+0100
TZOFFSETTO:+0200
TZNAME:CEST
DTSTART:20250330T010000
END:DAYLIGHT
BEGIN:STANDARD
TZOFFSETFROM:+0200
TZOFFSETTO:+0100
TZNAME:CET
DTSTART:20251026T010000
END:STANDARD
BEGIN:DAYLIGHT
TZOFFSETFROM:+0100
TZOFFSETTO:+0200
TZNAME:CEST
DTSTART:20260329T010000
END:DAYLIGHT
BEGIN:STANDARD
TZOFFSETFROM:+0200
TZOFFSETTO:+0100
TZNAME:CET
DTSTART:20261025T010000
END:STANDARD
END:VTIMEZONE
BEGIN:VEVENT
DTSTART;TZID=Europe/Berlin:20250621T183000
DTEND;TZID=Europe/Berlin:20250621T183000
DTSTAMP:20260420T195950
CREATED:20250504T192935Z
LAST-MODIFIED:20250504T193025Z
UID:1352-1750530600-1750530600@hyeleechang.com
SUMMARY:Konzert: Der Klang des Duftes
DESCRIPTION:Der Klang des Duftes – Ein Konzert für alle Sinne\n🗓 Samstag\, 21. Juni 2025 | 🕡 18:30–20:30 Uhr\n📍 Sensoria – Haus der Düfte und Aromen\, Holzminden \nErleben Sie ein außergewöhnliches Konzertformat\, bei dem Musik und Duft auf faszinierende Weise verschmelzen! Die südkoreanische Konzertpianistin Hyelee Clara Chang präsentiert ihr innovatives Konzept „Der Klang des Duftes“ im inspirierenden Ambiente von Sensoria\, dem europaweit einzigartigen Haus der Düfte und Aromen. \nInmitten der Ausstellung führt Hyelee Clara Chang das Publikum durch ein sinnliches Repertoire\, bei dem klassische Werke von Chopin\, Schubert und Beethoven durch eigens komponierte Düfte erlebbar werden. Während des Konzerts werden im Innenraum Duftproben gereicht\, die ihre persönlichen Assoziationen – wie „Chopin riecht nach Lavendel“ oder „Beethoven schmeckt nach Schokolade“ – eindrucksvoll begleiten. \nDie Düfte wurden in Zusammenarbeit mit dem Parfümeur Dirk Linder entwickelt\, der Changs musikalische Interpretationen in feine Duftnoten übersetzt hat. So entsteht ein einzigartiges Zusammenspiel zweier abstrakter Künste – hörbar\, riechbar und spürbar. \nDas Konzert wird auch nach außen übertragen: In der Fußgängerzone vor dem Gebäude können Interessierte das Konzert kostenlos miterleben – eigene Sitzgelegenheiten dürfen gern mitgebracht werden. \nEin Abend für alle Sinne – gefördert vom Freundes- und Förderkreis Sensoria e.V. \n🎟 Tickets für den Innenraum sind erhältlich direkt bei Sensoria\, Obere Straße 45\, Holzminden. \nteilen teilen teilen E-Mail 
URL:https://hyeleechang.com/event/konzert-der-klang-des-duftes
LOCATION:Sensoria Haus der Düfte und Aromen Holzminden\, Obere Straße 45\, Holzminden\, 37603\, Germany
CATEGORIES:Konzert
ATTACH;FMTTYPE=image/png:https://hyeleechang.com/wp-content/uploads/2025/05/Der-Klang-des-Duftes-1-1536x1024-1.png
END:VEVENT
END:VCALENDAR