BEGIN:VCALENDAR
VERSION:2.0
PRODID:-// - ECPv6.15.20//NONSGML v1.0//EN
CALSCALE:GREGORIAN
METHOD:PUBLISH
X-ORIGINAL-URL:https://hyeleechang.com
X-WR-CALDESC:Veranstaltungen für 
REFRESH-INTERVAL;VALUE=DURATION:PT1H
X-Robots-Tag:noindex
X-PUBLISHED-TTL:PT1H
BEGIN:VTIMEZONE
TZID:Europe/Berlin
BEGIN:DAYLIGHT
TZOFFSETFROM:+0100
TZOFFSETTO:+0200
TZNAME:CEST
DTSTART:20250330T010000
END:DAYLIGHT
BEGIN:STANDARD
TZOFFSETFROM:+0200
TZOFFSETTO:+0100
TZNAME:CET
DTSTART:20251026T010000
END:STANDARD
BEGIN:DAYLIGHT
TZOFFSETFROM:+0100
TZOFFSETTO:+0200
TZNAME:CEST
DTSTART:20260329T010000
END:DAYLIGHT
BEGIN:STANDARD
TZOFFSETFROM:+0200
TZOFFSETTO:+0100
TZNAME:CET
DTSTART:20261025T010000
END:STANDARD
BEGIN:DAYLIGHT
TZOFFSETFROM:+0100
TZOFFSETTO:+0200
TZNAME:CEST
DTSTART:20270328T010000
END:DAYLIGHT
BEGIN:STANDARD
TZOFFSETFROM:+0200
TZOFFSETTO:+0100
TZNAME:CET
DTSTART:20271031T010000
END:STANDARD
END:VTIMEZONE
BEGIN:VEVENT
DTSTART;TZID=Europe/Berlin:20260510T160000
DTEND;TZID=Europe/Berlin:20260510T170000
DTSTAMP:20260422T124007
CREATED:20260317T205533Z
LAST-MODIFIED:20260317T205533Z
UID:1446-1778428800-1778432400@hyeleechang.com
SUMMARY:Sinneszauber - Klang - Duft - Geschmack - Berührung
DESCRIPTION:Ein multisensorisches Erlebnis\, das Musik mit anderen Sinneseindrücken verbindet. \nHier sind die Veranstaltungsdetails im Überblick: \n\nGastgeberin: Pianistin Hyelee Clara Chang\nTitel: Sinneszauber\nMotto: Klang • Duft • Geschmack • Berührung\nInhalt: Mit Duft\, Marmeladenverkostung\, Holzkunst und Musik\n\nTermin und Ort \n\nDatum: Sonntag\, 10. Mai 2026\nUhrzeit: 16:00 Uhr\nOrt: Heilig-Geist-Kirche\nAdresse: Bischof-von-Ketteler-Platz 1\, Sarstedt\n\nteilen teilen teilen E-Mail 
URL:https://hyeleechang.com/event/sinneszauber-klang-duft-geschmack-beruehrung
LOCATION:Heilig Geist Kirche\, Bischof-von-Ketteler-Platz 1\, Sarstedt\, 31157\, Germany
CATEGORIES:Konzert
ATTACH;FMTTYPE=image/jpeg:https://hyeleechang.com/wp-content/uploads/2026/03/Green-Pink-Yellow-Modern-Simple-Abstract-Painting-Illustrated-Art-Gallery-.Poster.jpg
END:VEVENT
END:VCALENDAR